BEGIN:VCALENDAR
VERSION:2.0
PRODID:-//Ztoryteller - ECPv5.16.0//NONSGML v1.0//EN
CALSCALE:GREGORIAN
METHOD:PUBLISH
X-WR-CALNAME:Ztoryteller
X-ORIGINAL-URL:https://test.nftlab.work
X-WR-CALDESC:Events for Ztoryteller
REFRESH-INTERVAL;VALUE=DURATION:PT1H
X-Robots-Tag:noindex
X-PUBLISHED-TTL:PT1H
BEGIN:VTIMEZONE
TZID:UTC
BEGIN:STANDARD
TZOFFSETFROM:+0000
TZOFFSETTO:+0000
TZNAME:UTC
DTSTART:20220101T000000
END:STANDARD
END:VTIMEZONE
BEGIN:VEVENT
DTSTART;TZID=UTC:20221020T080000
DTEND;TZID=UTC:20221116T170000
DTSTAMP:20260423T060422
CREATED:20190531T001521Z
LAST-MODIFIED:20191207T024953Z
UID:283-1666252800-1668618000@test.nftlab.work
SUMMARY:Jean Francois De Troy "Bathsheba At Her Toilet"
DESCRIPTION:Etiam semper\, nunc vitae volutpat efficitur\, elit nibh egestas velit\, amet euismod justo justo pharetra ipsum. Mauris tincidunt magna\, ut fringilla erat ultrices et. Class aptent taciti sociosqu ad litora torquent per conubia nostra\, per inceptos himenaeos. Donec a metus eget libero efficitur tempor. Mauris bibendum mi leo\, at pulvinar leo cursus congue. Aenean tristique metus diam\, id mollis magna efficitur nec. Sed enenatis arcu nisl\, ac pharetra felis vestibulum vitae. Aenean sit amet pharetra eros\, et condimentum tortor. Class aptent taciti sociosqu ad litora torquent per conubia nostra\, per inceptos himenaeos. Aenean a dolor turpis. 					\n						\n				\n				\n				\n					\n			\n		\n				\n				\n				\n				\n			Buy Ticket
URL:https://test.nftlab.work/event/jean-francois-de-troy-bathsheba-at-her-toilet/
LOCATION:Queens\, New York\, 34th Ave\, NY\, 11106\, United States
CATEGORIES:Exhibitions
ATTACH;FMTTYPE=image/jpeg:https://test.nftlab.work/wp-content/uploads/2019/06/image-42-copyright.jpg
ORGANIZER;CN="Ozeum%20Art%20%26%20History%20Museum":MAILTO:yoursite@example.com
END:VEVENT
END:VCALENDAR